BEGIN:VCALENDAR
VERSION:2.0
PRODID:-//vocetogether.org//NONSGML kigkonsult.se iCalcreator 2.30.10//
CALSCALE:GREGORIAN
METHOD:PUBLISH
UID:f2f21ec6-5f45-42ef-81b2-5dab08ed14ca
X-WR-CALDESC:Thank you for joining us for the annual Forum on Pennsylvania'
 s Children! We're excited to gather for a third year in Harrisburg\, Penns
 ylvania to learn from and be challenged by trauma leaders and find new pat
 hways for collaboration and connection. To register yourself and/or others
 \, select the 'register now' button above to get started. Use the links lo
 cated below to the Agenda and Learning Labs Description to choose morning 
 and afternoon break-out sessions.
X-WR-RELCALID:c6cb4f10c79e1aacadcee57a0b8dd792
X-WR-TIMEZONE:America/New_York
BEGIN:VTIMEZONE
TZID:America/New_York
BEGIN:STANDARD
TZNAME:EST
DTSTART:20241103T020000
TZOFFSETFROM:-0400
TZOFFSETTO:-0500
RDATE:20251102T020000
END:STANDARD
BEGIN:DAYLIGHT
TZNAME:EDT
DTSTART:20240310T020000
TZOFFSETFROM:-0500
TZOFFSETTO:-0400
RDATE:20250309T020000
RDATE:20260308T020000
END:DAYLIGHT
END:VTIMEZONE
BEGIN:VEVENT
UID:86ecc372-f3b0-427d-bc98-d198169deb33
DTSTAMP:20260425T174235Z
DESCRIPTION:Thank you for joining us for the annual Forum on Pennsylvania's
  Children! We're excited to gather for a third year in Harrisburg\, Pennsy
 lvania to learn from and be challenged by trauma leaders and find new path
 ways for collaboration and connection. To register yourself and/or others\
 , select the 'register now' button above to get started. Use the links loc
 ated below to the Agenda and Learning Labs Description to choose morning a
 nd afternoon break-out sessions.
DTSTART;TZID=America/New_York:20241205T060000
DTEND;TZID=America/New_York:20241205T060001
LOCATION:Best Western Premier                   \, 800 E Park Drive\, Harri
 sburg\, PA 17111 US
SUMMARY:Forum on Pennsylvania's Children (FPaC)
END:VEVENT
END:VCALENDAR
