BEGIN:VCALENDAR
VERSION:2.0
PRODID:-//vocetogether.org//NONSGML kigkonsult.se iCalcreator 2.30.10//
CALSCALE:GREGORIAN
METHOD:PUBLISH
UID:97fed265-a882-415a-8f3e-443cc1e38911
X-WR-CALDESC:
X-WR-RELCALID:e5166c67640e7a0993734adfa4f66137
X-WR-TIMEZONE:America/New_York
BEGIN:VTIMEZONE
TZID:America/New_York
BEGIN:STANDARD
TZNAME:EST
DTSTART:20241103T020000
TZOFFSETFROM:-0400
TZOFFSETTO:-0500
RDATE:20251102T020000
END:STANDARD
BEGIN:DAYLIGHT
TZNAME:EDT
DTSTART:20240310T020000
TZOFFSETFROM:-0500
TZOFFSETTO:-0400
RDATE:20250309T020000
RDATE:20260308T020000
END:DAYLIGHT
END:VTIMEZONE
BEGIN:VEVENT
UID:2041b7b9-3363-4c73-bdd5-ec3d6c34304a
DTSTAMP:20260425T160958Z
DESCRIPTION:
DTSTART;TZID=America/New_York:20250109T090000
DTEND;TZID=America/New_York:20250109T160000
LOCATION:
SUMMARY:Act 101 of 2021 Training Program for Court and Agency Appointed Aut
 horized Representatives
END:VEVENT
END:VCALENDAR
