BEGIN:VCALENDAR
VERSION:2.0
PRODID:-//vocetogether.org//NONSGML kigkonsult.se iCalcreator 2.30.10//
CALSCALE:GREGORIAN
METHOD:PUBLISH
UID:fdd0be7a-0555-4a46-8807-d019254cb514
X-WR-CALDESC:
X-WR-RELCALID:36e301d7bcae415d5235788f9b0a467e
X-WR-TIMEZONE:America/New_York
BEGIN:VTIMEZONE
TZID:America/New_York
BEGIN:STANDARD
TZNAME:EST
DTSTART:20251102T020000
TZOFFSETFROM:-0400
TZOFFSETTO:-0500
RDATE:20261101T020000
END:STANDARD
BEGIN:DAYLIGHT
TZNAME:EDT
DTSTART:20250309T020000
TZOFFSETFROM:-0500
TZOFFSETTO:-0400
RDATE:20260308T020000
RDATE:20270314T020000
END:DAYLIGHT
END:VTIMEZONE
BEGIN:VEVENT
UID:a41c3f24-a1f7-4df5-b196-ab55d8acd44d
DTSTAMP:20260422T232810Z
DESCRIPTION:
DTSTART;TZID=America/New_York:20260119T060000
DTEND;TZID=America/New_York:20260119T060001
LOCATION:200 Corporate Center Dr.\, Ste 100A\, Camp Hill\, PA 17011 US
SUMMARY:Office Closed - Martin Luther King Day
END:VEVENT
END:VCALENDAR
