BEGIN:VCALENDAR
VERSION:2.0
PRODID:-//vocetogether.org//NONSGML kigkonsult.se iCalcreator 2.30.10//
CALSCALE:GREGORIAN
METHOD:PUBLISH
UID:d1dcaefa-492d-4d2f-a7a3-683787726cf5
X-WR-CALDESC:
X-WR-RELCALID:d0fb6dcf8be80c8a834d7b0b42241d36
X-WR-TIMEZONE:America/New_York
BEGIN:VTIMEZONE
TZID:America/New_York
BEGIN:STANDARD
TZNAME:EST
DTSTART:20251102T020000
TZOFFSETFROM:-0400
TZOFFSETTO:-0500
RDATE:20261101T020000
END:STANDARD
BEGIN:DAYLIGHT
TZNAME:EDT
DTSTART:20250309T020000
TZOFFSETFROM:-0500
TZOFFSETTO:-0400
RDATE:20260308T020000
RDATE:20270314T020000
END:DAYLIGHT
END:VTIMEZONE
BEGIN:VEVENT
UID:cf793679-1789-48fe-98eb-2fc690f1666d
DTSTAMP:20260422T215722Z
DESCRIPTION:
DTSTART;TZID=America/New_York:20260203T170000
DTEND;TZID=America/New_York:20260203T190000
LOCATION:300 Corporate Center Drive\, Camp Hill\, PA 17011 US
SUMMARY:Voce Hosted Mixer - West Shore Chamber
END:VEVENT
END:VCALENDAR
