BEGIN:VCALENDAR
VERSION:2.0
PRODID:-//vocetogether.org//NONSGML kigkonsult.se iCalcreator 2.30.10//
CALSCALE:GREGORIAN
METHOD:PUBLISH
UID:6a26bcbe-1be7-43b6-904a-6023f78a50c4
X-WR-CALDESC:
X-WR-RELCALID:26baf567c29e3acb412f99a846321eec
X-WR-TIMEZONE:America/New_York
BEGIN:VTIMEZONE
TZID:America/New_York
BEGIN:STANDARD
TZNAME:EST
DTSTART:20251102T020000
TZOFFSETFROM:-0400
TZOFFSETTO:-0500
RDATE:20261101T020000
END:STANDARD
BEGIN:DAYLIGHT
TZNAME:EDT
DTSTART:20250309T020000
TZOFFSETFROM:-0500
TZOFFSETTO:-0400
RDATE:20260308T020000
RDATE:20270314T020000
END:DAYLIGHT
END:VTIMEZONE
BEGIN:VEVENT
UID:2908f839-29fd-48e7-9aa0-4fbc486adcfd
DTSTAMP:20260422T215646Z
DESCRIPTION:
DTSTART;TZID=America/New_York:20260205T170000
DTEND;TZID=America/New_York:20260205T200000
LOCATION:200 Corporate Center Drive\, Suite 100A\, CAMP HILL\, PA 17011 US
SUMMARY:Board Meeting
END:VEVENT
END:VCALENDAR
