BEGIN:VCALENDAR
VERSION:2.0
PRODID:-//vocetogether.org//NONSGML kigkonsult.se iCalcreator 2.30.10//
CALSCALE:GREGORIAN
METHOD:PUBLISH
UID:b8bd0cd5-7ba7-44fb-8c54-c6a351858e8d
X-WR-CALDESC:Get a sneak peek at what’s ahead for the Forum on Pennsylvania
 ’s Children!\n\nWatch the February 9 recap of our live webinar hosted by J
 essica Castle\, Chief Innovation Officer at Voce\, featuring Jamie Noerpel
 \, Director of the York County Safety Collaborative.\n\nIn this Forum Firs
 t Look session\, Jamie shares how cross-sector partnerships\, youth voice\
 , and community collaboration are helping drive meaningful change to reduc
 e violence and strengthen supports for young people. The conversation high
 lights the power of bringing diverse sectors together—from law enforcement
  and nonprofits to faith-based and community organizations—to share resour
 ces\, identify gaps\, and work collectively toward safer\, stronger commun
 ities.
X-WR-RELCALID:fa303d3999936b1b5c99d13250b8974e
X-WR-TIMEZONE:America/New_York
BEGIN:VTIMEZONE
TZID:America/New_York
BEGIN:STANDARD
TZNAME:EST
DTSTART:20251102T020000
TZOFFSETFROM:-0400
TZOFFSETTO:-0500
RDATE:20261101T020000
END:STANDARD
BEGIN:DAYLIGHT
TZNAME:EDT
DTSTART:20250309T020000
TZOFFSETFROM:-0500
TZOFFSETTO:-0400
RDATE:20260308T020000
RDATE:20270314T020000
END:DAYLIGHT
END:VTIMEZONE
BEGIN:VEVENT
UID:fbdaccb0-21c1-42f9-9c55-645bbee4a92b
DTSTAMP:20260422T205822Z
DESCRIPTION:Get a sneak peek at what’s ahead for the Forum on Pennsylvania’
 s Children!\n\nWatch the February 9 recap of our live webinar hosted by Je
 ssica Castle\, Chief Innovation Officer at Voce\, featuring Jamie Noerpel\
 , Director of the York County Safety Collaborative.\n\nIn this Forum First
  Look session\, Jamie shares how cross-sector partnerships\, youth voice\,
  and community collaboration are helping drive meaningful change to reduce
  violence and strengthen supports for young people. The conversation highl
 ights the power of bringing diverse sectors together—from law enforcement 
 and nonprofits to faith-based and community organizations—to share resourc
 es\, identify gaps\, and work collectively toward safer\, stronger communi
 ties.
DTSTART;TZID=America/New_York:20260209T120000
DTEND;TZID=America/New_York:20260209T123000
LOCATION:https://vimeo.com/1174159418?share=copy&fl=sv&fe=ci
SUMMARY:Forum First Look: Collaboration in Action
END:VEVENT
END:VCALENDAR
