BEGIN:VCALENDAR
VERSION:2.0
PRODID:-//vocetogether.org//NONSGML kigkonsult.se iCalcreator 2.30.10//
CALSCALE:GREGORIAN
METHOD:PUBLISH
UID:4e2c98eb-b576-45e2-b3f8-da303c56a6c2
X-WR-CALDESC:
X-WR-RELCALID:fae4638ae0572617e7d63e0e044e1e01
X-WR-TIMEZONE:America/New_York
BEGIN:VTIMEZONE
TZID:America/New_York
BEGIN:STANDARD
TZNAME:EST
DTSTART:20251102T020000
TZOFFSETFROM:-0400
TZOFFSETTO:-0500
RDATE:20261101T020000
END:STANDARD
BEGIN:DAYLIGHT
TZNAME:EDT
DTSTART:20250309T020000
TZOFFSETFROM:-0500
TZOFFSETTO:-0400
RDATE:20260308T020000
RDATE:20270314T020000
END:DAYLIGHT
END:VTIMEZONE
BEGIN:VEVENT
UID:fdc2367b-50cc-4a18-8eee-79f48dfcab9c
DTSTAMP:20260422T214949Z
DESCRIPTION:
DTSTART;TZID=America/New_York:20260216T060000
DTEND;TZID=America/New_York:20260216T060001
LOCATION:200 Corporate Center Dr.\, Ste 100A\, Camp Hill\, PA 17011 US
SUMMARY:Office Closed - Presidents Day
END:VEVENT
END:VCALENDAR
