BEGIN:VCALENDAR
VERSION:2.0
PRODID:-//vocetogether.org//NONSGML kigkonsult.se iCalcreator 2.30.10//
CALSCALE:GREGORIAN
METHOD:PUBLISH
UID:a14ed211-71f7-47e7-bf4a-7d5bff9c9b67
X-WR-CALDESC:Get a sneak peek at what’s ahead for the Forum on Pennsylvania
 ’s Children!\n\nWatch the March 9 recap of our live webinar hosted by Jess
 ica Castle\, Chief Innovation Officer at Voce\, featuring Amy Rote\, CEO o
 f Big Brothers Big Sisters of South-Central PA.\n\nIn this Forum First Loo
 k session\, Amy Rote highlights mentorship as a powerful\, trauma-informed
  approach to building youth resilience and success. The conversation highl
 ights the importance of consistent\, caring relationships and cross-sector
  partnerships to support young people facing challenges like trauma and so
 cial isolation\, while also uplifting youth voice and expanding access to 
 meaningful opportunities.
X-WR-RELCALID:e1225c0dad81e2aa175d7491cc944565
X-WR-TIMEZONE:America/New_York
BEGIN:VTIMEZONE
TZID:America/New_York
BEGIN:STANDARD
TZNAME:EST
DTSTART:20251102T020000
TZOFFSETFROM:-0400
TZOFFSETTO:-0500
RDATE:20261101T020000
END:STANDARD
BEGIN:DAYLIGHT
TZNAME:EDT
DTSTART:20250309T020000
TZOFFSETFROM:-0500
TZOFFSETTO:-0400
RDATE:20260308T020000
RDATE:20270314T020000
END:DAYLIGHT
END:VTIMEZONE
BEGIN:VEVENT
UID:62095778-09a6-4e62-9741-a63203622995
DTSTAMP:20260422T203902Z
DESCRIPTION:Get a sneak peek at what’s ahead for the Forum on Pennsylvania’
 s Children!\n\nWatch the March 9 recap of our live webinar hosted by Jessi
 ca Castle\, Chief Innovation Officer at Voce\, featuring Amy Rote\, CEO of
  Big Brothers Big Sisters of South-Central PA.\n\nIn this Forum First Look
  session\, Amy Rote highlights mentorship as a powerful\, trauma-informed 
 approach to building youth resilience and success. The conversation highli
 ghts the importance of consistent\, caring relationships and cross-sector 
 partnerships to support young people facing challenges like trauma and soc
 ial isolation\, while also uplifting youth voice and expanding access to m
 eaningful opportunities.
DTSTART;TZID=America/New_York:20260309T120000
DTEND;TZID=America/New_York:20260309T123000
LOCATION:https://vimeo.com/1179940249?share=copy&fl=sv&fe=ci
SUMMARY:Forum First Look: Healing Relationships
END:VEVENT
END:VCALENDAR
