BEGIN:VCALENDAR
VERSION:2.0
PRODID:-//vocetogether.org//NONSGML kigkonsult.se iCalcreator 2.30.10//
CALSCALE:GREGORIAN
METHOD:PUBLISH
UID:b6fc88c6-73ff-4bbb-b8ed-a1c4de9b9004
X-WR-CALDESC:
X-WR-RELCALID:71753cf9275bcd8d78d30a4852fbb1bd
X-WR-TIMEZONE:America/New_York
BEGIN:VTIMEZONE
TZID:America/New_York
BEGIN:STANDARD
TZNAME:EST
DTSTART:20251102T020000
TZOFFSETFROM:-0400
TZOFFSETTO:-0500
RDATE:20261101T020000
END:STANDARD
BEGIN:DAYLIGHT
TZNAME:EDT
DTSTART:20260308T020000
TZOFFSETFROM:-0500
TZOFFSETTO:-0400
RDATE:20270314T020000
END:DAYLIGHT
END:VTIMEZONE
BEGIN:VEVENT
UID:296e3ed4-bb48-4c9e-8e71-7daa720d8286
DTSTAMP:20260422T203926Z
DESCRIPTION:
DTSTART;TZID=America/New_York:20260323T170000
DTEND;TZID=America/New_York:20260323T190000
LOCATION:Best Western Premier\, The Central Hotel & Conference Center\, 800
  E Park Drive\, Harrisburg\, PA 17111 US
SUMMARY:Voce Staff Reception
END:VEVENT
END:VCALENDAR
