BEGIN:VCALENDAR
VERSION:2.0
PRODID:-//vocetogether.org//NONSGML kigkonsult.se iCalcreator 2.30.10//
CALSCALE:GREGORIAN
METHOD:PUBLISH
UID:29acf881-3b1a-4bcf-9972-290f3201f749
X-WR-CALDESC:
X-WR-RELCALID:4bd34b66a356fc7e457b8264219781c8
X-WR-TIMEZONE:America/New_York
BEGIN:VTIMEZONE
TZID:America/New_York
BEGIN:STANDARD
TZNAME:EST
DTSTART:20251102T020000
TZOFFSETFROM:-0400
TZOFFSETTO:-0500
RDATE:20261101T020000
END:STANDARD
BEGIN:DAYLIGHT
TZNAME:EDT
DTSTART:20260308T020000
TZOFFSETFROM:-0500
TZOFFSETTO:-0400
RDATE:20270314T020000
END:DAYLIGHT
END:VTIMEZONE
BEGIN:VEVENT
UID:945ed538-f67f-454a-8306-1b32e92841bb
DTSTAMP:20260422T204629Z
DESCRIPTION:
DTSTART;TZID=America/New_York:20260324T100000
DTEND;TZID=America/New_York:20260324T160000
LOCATION:Best Western Premier\, The Central Hotel & Conference Center\, 800
  E Park Drive\, Harrisburg\, PA 17111 US
SUMMARY:2026 Diakon/Voce All Staff Meeting
END:VEVENT
END:VCALENDAR
