BEGIN:VCALENDAR
VERSION:2.0
PRODID:-//vocetogether.org//NONSGML kigkonsult.se iCalcreator 2.30.10//
CALSCALE:GREGORIAN
METHOD:PUBLISH
UID:169e3b9e-f662-4422-a159-7f28161e647d
X-WR-CALDESC:Get a sneak peek at what’s ahead for the Forum on Pennsylvania
 ’s Children with our Forum First Look: Prevention Reimagined on April 13.
 \n\nJoin us for a free\, 30-minute live webinar hosted by Jessica Castle\,
  Chief Innovation Officer of Voce and featuring Jeff Hanley\, Executive Di
 rector of the Commonwealth Prevention Alliance. The session will offer a p
 review of the sessions and conversations that will take place at this year
 ’s Forum on May 28. It’s an easy way to learn what you’ll gain from the ev
 ent—and will also help presenters tailor their content to your interests!
X-WR-RELCALID:b6c8049a80caffcf980d3bb168554f42
X-WR-TIMEZONE:America/New_York
BEGIN:VTIMEZONE
TZID:America/New_York
BEGIN:STANDARD
TZNAME:EST
DTSTART:20251102T020000
TZOFFSETFROM:-0400
TZOFFSETTO:-0500
RDATE:20261101T020000
END:STANDARD
BEGIN:DAYLIGHT
TZNAME:EDT
DTSTART:20260308T020000
TZOFFSETFROM:-0500
TZOFFSETTO:-0400
RDATE:20270314T020000
END:DAYLIGHT
END:VTIMEZONE
BEGIN:VEVENT
UID:50400077-be64-4c43-a060-6ecb454c11b7
DTSTAMP:20260422T191202Z
DESCRIPTION:Get a sneak peek at what’s ahead for the Forum on Pennsylvania’
 s Children with our Forum First Look: Prevention Reimagined on April 13.\n
 \nJoin us for a free\, 30-minute live webinar hosted by Jessica Castle\, C
 hief Innovation Officer of Voce and featuring Jeff Hanley\, Executive Dire
 ctor of the Commonwealth Prevention Alliance. The session will offer a pre
 view of the sessions and conversations that will take place at this year’s
  Forum on May 28. It’s an easy way to learn what you’ll gain from the even
 t—and will also help presenters tailor their content to your interests!
DTSTART;TZID=America/New_York:20260413T120000
DTEND;TZID=America/New_York:20260413T123000
LOCATION:https://www.linkedin.com/events/forumfirstlook-preventionreimag741
 9433860134002688/
SUMMARY:Forum First Look: Prevention Reimagined
END:VEVENT
END:VCALENDAR
