BEGIN:VCALENDAR
VERSION:2.0
PRODID:-//vocetogether.org//NONSGML kigkonsult.se iCalcreator 2.30.10//
CALSCALE:GREGORIAN
METHOD:PUBLISH
UID:ee6cb164-351b-4863-86db-a45a5b8e96ad
X-WR-CALDESC:This support group provides Authorized Representatives with gu
 idance and support in conducting adoption searches in accordance with Act 
 101.
X-WR-RELCALID:9260173d5fee74e50d21af062cfb86da
X-WR-TIMEZONE:America/New_York
BEGIN:VTIMEZONE
TZID:America/New_York
BEGIN:STANDARD
TZNAME:EST
DTSTART:20251102T020000
TZOFFSETFROM:-0400
TZOFFSETTO:-0500
RDATE:20261101T020000
END:STANDARD
BEGIN:DAYLIGHT
TZNAME:EDT
DTSTART:20260308T020000
TZOFFSETFROM:-0500
TZOFFSETTO:-0400
RDATE:20270314T020000
END:DAYLIGHT
END:VTIMEZONE
BEGIN:VEVENT
UID:5a5c3f17-ca0d-4718-a8d9-5e84cbee58f4
DTSTAMP:20260422T191239Z
DESCRIPTION:This support group provides Authorized Representatives with gui
 dance and support in conducting adoption searches in accordance with Act 1
 01.
DTSTART;TZID=America/New_York:20260420T100000
DTEND;TZID=America/New_York:20260420T120000
LOCATION:https://zoom.us/j/96986588826
SUMMARY:AR Support Group Meeting (Virtual)
END:VEVENT
END:VCALENDAR
