BEGIN:VCALENDAR
VERSION:2.0
PRODID:-//vocetogether.org//NONSGML kigkonsult.se iCalcreator 2.30.10//
CALSCALE:GREGORIAN
METHOD:PUBLISH
UID:24e93639-45e6-4c30-93f6-e5a421c9d9e3
X-WR-CALDESC:
X-WR-RELCALID:2b1d64d1680967ab9703323f8a8042c2
X-WR-TIMEZONE:America/New_York
BEGIN:VTIMEZONE
TZID:America/New_York
BEGIN:STANDARD
TZNAME:EST
DTSTART:20251102T020000
TZOFFSETFROM:-0400
TZOFFSETTO:-0500
RDATE:20261101T020000
END:STANDARD
BEGIN:DAYLIGHT
TZNAME:EDT
DTSTART:20260308T020000
TZOFFSETFROM:-0500
TZOFFSETTO:-0400
RDATE:20270314T020000
END:DAYLIGHT
END:VTIMEZONE
BEGIN:VEVENT
UID:fa512865-a116-4ed0-b689-3ee03593be70
DTSTAMP:20260422T191540Z
DESCRIPTION:
DTSTART;TZID=America/New_York:20260423T173000
DTEND;TZID=America/New_York:20260423T200000
LOCATION:200 Corporate Center Drive\, Suite 100A\, CAMP HILL\, PA 17011 US
SUMMARY:Board Meeting
END:VEVENT
END:VCALENDAR
