BEGIN:VCALENDAR
VERSION:2.0
PRODID:-//vocetogether.org//NONSGML kigkonsult.se iCalcreator 2.30.10//
CALSCALE:GREGORIAN
METHOD:PUBLISH
UID:c1d40def-2d34-4dea-a65e-15d766299427
X-WR-CALDESC:Get a sneak peek at what’s ahead for the Forum on Pennsylvania
 ’s Children with our Forum First Look on May 11.\n\nJoin us for a free\, 3
 0-minute live webinar hosted by Jessica Castle\, Chief Innovation Officer 
 of Voce and featuring Rick Azzaro\, CEO at Voce\, and Anne Gingerich\, Exe
 cutive Director at PA Association of Nonprofit Organizations (PANO). The s
 ession will offer a preview of the sessions and conversations that will ta
 ke place at this year’s Forum on May 28. It’s an easy way to learn what yo
 u’ll gain from the event—and will also help presenters tailor their conten
 t to your interests!
X-WR-RELCALID:2518677763933a07ffe288b3b54065ed
X-WR-TIMEZONE:America/New_York
BEGIN:VTIMEZONE
TZID:America/New_York
BEGIN:STANDARD
TZNAME:EST
DTSTART:20251102T020000
TZOFFSETFROM:-0400
TZOFFSETTO:-0500
RDATE:20261101T020000
RDATE:20271107T020000
END:STANDARD
BEGIN:DAYLIGHT
TZNAME:EDT
DTSTART:20260308T020000
TZOFFSETFROM:-0500
TZOFFSETTO:-0400
RDATE:20270314T020000
END:DAYLIGHT
END:VTIMEZONE
BEGIN:VEVENT
UID:aef50824-6688-400d-a5a5-ca30bae87887
DTSTAMP:20260422T203707Z
DESCRIPTION:Get a sneak peek at what’s ahead for the Forum on Pennsylvania’
 s Children with our Forum First Look on May 11.\n\nJoin us for a free\, 30
 -minute live webinar hosted by Jessica Castle\, Chief Innovation Officer o
 f Voce and featuring Rick Azzaro\, CEO at Voce\, and Anne Gingerich\, Exec
 utive Director at PA Association of Nonprofit Organizations (PANO). The se
 ssion will offer a preview of the sessions and conversations that will tak
 e place at this year’s Forum on May 28. It’s an easy way to learn what you
 ’ll gain from the event—and will also help presenters tailor their content
  to your interests!
DTSTART;TZID=America/New_York:20260511T120000
DTEND;TZID=America/New_York:20260511T123000
LOCATION:https://www.linkedin.com/events/forumfirstlook-communityinpract741
 9435631602388992/
SUMMARY:Forum First Look: Community in Practice
END:VEVENT
END:VCALENDAR
