BEGIN:VCALENDAR
VERSION:2.0
PRODID:-//vocetogether.org//NONSGML kigkonsult.se iCalcreator 2.30.10//
CALSCALE:GREGORIAN
METHOD:PUBLISH
UID:ba805d3b-f0eb-47d9-a9f2-bd529f8f3ad4
X-WR-CALDESC:
X-WR-RELCALID:a1d4328d9e144108125333e236a905c6
X-WR-TIMEZONE:America/New_York
BEGIN:VTIMEZONE
TZID:America/New_York
BEGIN:STANDARD
TZNAME:EST
DTSTART:20251102T020000
TZOFFSETFROM:-0400
TZOFFSETTO:-0500
RDATE:20261101T020000
RDATE:20271107T020000
END:STANDARD
BEGIN:DAYLIGHT
TZNAME:EDT
DTSTART:20260308T020000
TZOFFSETFROM:-0500
TZOFFSETTO:-0400
RDATE:20270314T020000
END:DAYLIGHT
END:VTIMEZONE
BEGIN:VEVENT
UID:8a2580d4-47ef-424a-9e39-2f715e360785
DTSTAMP:20260422T203342Z
DESCRIPTION:
DTSTART;TZID=America/New_York:20260525T060000
DTEND;TZID=America/New_York:20260525T060001
LOCATION:200 Corporate Center Dr.\, Ste 100A\, Camp Hill\, PA 17011 US
SUMMARY:Office Closed - Memorial Day
END:VEVENT
END:VCALENDAR
