BEGIN:VCALENDAR
VERSION:2.0
PRODID:-//vocetogether.org//NONSGML kigkonsult.se iCalcreator 2.30.10//
CALSCALE:GREGORIAN
METHOD:PUBLISH
UID:c45290c3-3da5-49a3-96db-89a05fa41093
X-WR-CALDESC:Thank you for joining us for the 2026 Forum on Pennsylvania's 
 Children! We're excited to bring FPaC to York County to learn from and be 
 challenged by trauma leaders and find new pathways for collaboration and c
 onnection. To register\, select the 'register now' button above to get sta
 rted. Use the links located below to the At-A-Glance Agenda and Learning L
 abs Descriptions to choose morning break-out sessions.
X-WR-RELCALID:c82022da658e813ade33eba41fbe908d
X-WR-TIMEZONE:America/New_York
BEGIN:VTIMEZONE
TZID:America/New_York
BEGIN:STANDARD
TZNAME:EST
DTSTART:20251102T020000
TZOFFSETFROM:-0400
TZOFFSETTO:-0500
RDATE:20261101T020000
RDATE:20271107T020000
END:STANDARD
BEGIN:DAYLIGHT
TZNAME:EDT
DTSTART:20260308T020000
TZOFFSETFROM:-0500
TZOFFSETTO:-0400
RDATE:20270314T020000
END:DAYLIGHT
END:VTIMEZONE
BEGIN:VEVENT
UID:b2abe9b4-f749-4c54-a8ab-27369ece14e6
DTSTAMP:20260422T202709Z
DESCRIPTION:Thank you for joining us for the 2026 Forum on Pennsylvania's C
 hildren! We're excited to bring FPaC to York County to learn from and be c
 hallenged by trauma leaders and find new pathways for collaboration and co
 nnection. To register\, select the 'register now' button above to get star
 ted. Use the links located below to the At-A-Glance Agenda and Learning La
 bs Descriptions to choose morning break-out sessions.
DTSTART;TZID=America/New_York:20260528T060000
DTEND;TZID=America/New_York:20260528T060001
LOCATION:Wyndham Garden York            \, 2000 Loucks Rd\, York\, PA 17404
  US
SUMMARY:Forum on Pennsylvania's Children (FPaC)
END:VEVENT
END:VCALENDAR
