BEGIN:VCALENDAR
VERSION:2.0
PRODID:-//vocetogether.org//NONSGML kigkonsult.se iCalcreator 2.30.10//
CALSCALE:GREGORIAN
METHOD:PUBLISH
UID:bd8f3b9c-84ab-4a29-ae77-43661249898a
X-WR-CALDESC:
X-WR-RELCALID:399e0c102d29582f48a28472cdfc9139
X-WR-TIMEZONE:America/New_York
BEGIN:VTIMEZONE
TZID:America/New_York
BEGIN:STANDARD
TZNAME:EST
DTSTART:20251102T020000
TZOFFSETFROM:-0400
TZOFFSETTO:-0500
RDATE:20261101T020000
RDATE:20271107T020000
END:STANDARD
BEGIN:DAYLIGHT
TZNAME:EDT
DTSTART:20260308T020000
TZOFFSETFROM:-0500
TZOFFSETTO:-0400
RDATE:20270314T020000
END:DAYLIGHT
END:VTIMEZONE
BEGIN:VEVENT
UID:a9d11224-2294-4be2-b160-00ebe7c521ee
DTSTAMP:20260422T233045Z
DESCRIPTION:
DTSTART;TZID=America/New_York:20260703T060000
DTEND;TZID=America/New_York:20260703T060001
LOCATION:200 Corporate Center Dr.\, Ste 100A\, Camp Hill\, PA 17011 US
SUMMARY:Office Closed - Independence Day
END:VEVENT
END:VCALENDAR
