BEGIN:VCALENDAR
VERSION:2.0
PRODID:-//vocetogether.org//NONSGML kigkonsult.se iCalcreator 2.30.10//
CALSCALE:GREGORIAN
METHOD:PUBLISH
UID:05825300-00fc-47fc-87a2-d514e93f13fb
X-WR-CALDESC:
X-WR-RELCALID:9da8b1763b80617481f140c25f2f6c3d
X-WR-TIMEZONE:America/New_York
BEGIN:VTIMEZONE
TZID:America/New_York
BEGIN:STANDARD
TZNAME:EST
DTSTART:20251102T020000
TZOFFSETFROM:-0400
TZOFFSETTO:-0500
RDATE:20261101T020000
RDATE:20271107T020000
END:STANDARD
BEGIN:DAYLIGHT
TZNAME:EDT
DTSTART:20260308T020000
TZOFFSETFROM:-0500
TZOFFSETTO:-0400
RDATE:20270314T020000
END:DAYLIGHT
END:VTIMEZONE
BEGIN:VEVENT
UID:e707bcaf-a613-4458-9b32-5b22013f0742
DTSTAMP:20260422T232541Z
DESCRIPTION:
DTSTART;TZID=America/New_York:20260723T173000
DTEND;TZID=America/New_York:20260723T200000
LOCATION:200 Corporate Center Drive\, Suite 100A\, CAMP HILL\, PA 17011 US
SUMMARY:Board Meeting
END:VEVENT
END:VCALENDAR
